BEGIN:VCALENDAR
VERSION:2.0
PRODID:-//Skara Konsthotell - ECPv6.15.20//NONSGML v1.0//EN
CALSCALE:GREGORIAN
METHOD:PUBLISH
X-WR-CALNAME:Skara Konsthotell
X-ORIGINAL-URL:https://skarakonsthotell.se
X-WR-CALDESC:Händelser för Skara Konsthotell
REFRESH-INTERVAL;VALUE=DURATION:PT1H
X-Robots-Tag:noindex
X-PUBLISHED-TTL:PT1H
BEGIN:VTIMEZONE
TZID:Europe/Stockholm
BEGIN:DAYLIGHT
TZOFFSETFROM:+0100
TZOFFSETTO:+0200
TZNAME:CEST
DTSTART:20220327T010000
END:DAYLIGHT
BEGIN:STANDARD
TZOFFSETFROM:+0200
TZOFFSETTO:+0100
TZNAME:CET
DTSTART:20221030T010000
END:STANDARD
BEGIN:DAYLIGHT
TZOFFSETFROM:+0100
TZOFFSETTO:+0200
TZNAME:CEST
DTSTART:20230326T010000
END:DAYLIGHT
BEGIN:STANDARD
TZOFFSETFROM:+0200
TZOFFSETTO:+0100
TZNAME:CET
DTSTART:20231029T010000
END:STANDARD
BEGIN:DAYLIGHT
TZOFFSETFROM:+0100
TZOFFSETTO:+0200
TZNAME:CEST
DTSTART:20240331T010000
END:DAYLIGHT
BEGIN:STANDARD
TZOFFSETFROM:+0200
TZOFFSETTO:+0100
TZNAME:CET
DTSTART:20241027T010000
END:STANDARD
BEGIN:DAYLIGHT
TZOFFSETFROM:+0100
TZOFFSETTO:+0200
TZNAME:CEST
DTSTART:20250330T010000
END:DAYLIGHT
BEGIN:STANDARD
TZOFFSETFROM:+0200
TZOFFSETTO:+0100
TZNAME:CET
DTSTART:20251026T010000
END:STANDARD
BEGIN:DAYLIGHT
TZOFFSETFROM:+0100
TZOFFSETTO:+0200
TZNAME:CEST
DTSTART:20260329T010000
END:DAYLIGHT
BEGIN:STANDARD
TZOFFSETFROM:+0200
TZOFFSETTO:+0100
TZNAME:CET
DTSTART:20261025T010000
END:STANDARD
END:VTIMEZONE
BEGIN:VEVENT
DTSTART;VALUE=DATE:20250530
DTEND;VALUE=DATE:20250531
DTSTAMP:20260424T230230
CREATED:20250423T072937Z
LAST-MODIFIED:20250507T072708Z
UID:10000442-1748563200-1748649599@skarakonsthotell.se
SUMMARY:Bubbelprovning med Triplus
DESCRIPTION:Fredagen den 30 maj bjuder vi in till en bubblande smakupplevelse tillsammans med Triplus – en kväll för dig som älskar mousserande vin och vill lära dig mer i en avslappnad och inspirerande miljö. \nDetta ingår i provningen:– Fyra olika sorters bubbel (inkl. rosé & champagne)– Tilltugg anpassade till drycken \nPris:Early bird: 365 kr till 4 maj (begränsat antal!)Ordinarie pris efter sista datum: 395 kr \nTid: 18.00 \nVill du göra kvällen extra minnesvärd? Passa på att njuta av vår specialkomponerade 3-rättersmeny för 525 kr\, med rätter från vår nya meny. \nBoka din plats redan idag – platserna är begränsade!\nVälkommen till en kväll fylld av bubblor\, smaker och sommarkänslor på Skara Konsthotell!
URL:https://skarakonsthotell.se/events/bubbelprovning-med-triplus-30-maj/
LOCATION:Skara Konsthotell\, Vilangatan 4\, Skara\, 532 37
CATEGORIES:På gång
ATTACH;FMTTYPE=image/png:https://skarakonsthotell.se/wp-content/uploads/2025/04/romantikpaket-48.png
ORGANIZER;CN="Skara Konsthotell":MAILTO:info.konst@julahotell.se
END:VEVENT
BEGIN:VEVENT
DTSTART;VALUE=DATE:20250517
DTEND;VALUE=DATE:20250518
DTSTAMP:20260424T230230
CREATED:20250429T073717Z
LAST-MODIFIED:20250429T073717Z
UID:10000443-1747440000-1747526399@skarakonsthotell.se
SUMMARY:SM i äventyrsgolf
DESCRIPTION:Välkommen till SM i Äventyrsgolf. Samla vänner\, familj eller kollegor och gör er redo för en eftermiddag fylld av skratt och tävling! Ta chansen att kamma hem fina priser och självklart – den ärorika titeln som mästare i äventyrsgolf! Oavsett om du är nybörjare eller proffs är detta ett perfekt tillfälle att ha kul tillsammans. \nDatum: 17 maj\nTid: Start kl. 16.00Lag: Max 4 personer per lagPris: 240 kr per lag \nVarför inte avsluta kvällen med något riktigt gott?Efter turneringen är ni varmt välkomna att njuta av en härlig middag i vår restaurang – med smaker som förlänger upplevelsen. \nAnmäl ert lag idag\, sista anmälningsdagen är 13 maj. \nBoka er genom att kontakta oss på 0511 31 00 00 eller mejla info.konst@julahotell.se.
URL:https://skarakonsthotell.se/events/sm-i-aventyrsgolf/
LOCATION:Skara Konsthotell\, Vilangatan 4\, Skara\, 532 37
CATEGORIES:På gång
ATTACH;FMTTYPE=image/png:https://skarakonsthotell.se/wp-content/uploads/2023/05/golf-hemsida-ny.png
ORGANIZER;CN="Skara Konsthotell":MAILTO:info.konst@julahotell.se
END:VEVENT
BEGIN:VEVENT
DTSTART;VALUE=DATE:20250430
DTEND;VALUE=DATE:20250501
DTSTAMP:20260424T230230
CREATED:20250409T074416Z
LAST-MODIFIED:20250409T074416Z
UID:10000438-1745971200-1746057599@skarakonsthotell.se
SUMMARY:Valborg på Skara Konsthotell – en kväll att fira våren!
DESCRIPTION:Fira in våren med stil på Skara Konsthotell! Vi bjuder in till en stämningsfull Valborgskväll fylld med värme\, god mat och vårens smaker i fokus. \nUpplev vår nya meny – inspirerad av säsongens råvaror med fräscha smaker och vårig känsla. Njut av en avkopplande kväll i vår vackra restaurangmiljö\, där maten får ta plats och gemenskapen blomstrar. \nPlats: Skara KonsthotellTid: 17.00–22.00 \nBoka bord och fira Valborg med oss\, Välkommen! \nBoka er kväll genom att kontakta oss på 0511 31 00 00 eller mejla info.konst@julahotell.se.
URL:https://skarakonsthotell.se/events/valborg-pa-skara-konsthotell-en-kvall-att-fira-varen/
LOCATION:Skara Konsthotell\, Vilangatan 4\, Skara\, 532 37
ATTACH;FMTTYPE=image/png:https://skarakonsthotell.se/wp-content/uploads/2025/04/romantikpaket-44.png
ORGANIZER;CN="Skara Konsthotell":MAILTO:info.konst@julahotell.se
END:VEVENT
BEGIN:VEVENT
DTSTART;VALUE=DATE:20250417
DTEND;VALUE=DATE:20250420
DTSTAMP:20260424T230230
CREATED:20250225T114820Z
LAST-MODIFIED:20250303T104749Z
UID:10000420-1744848000-1745107199@skarakonsthotell.se
SUMMARY:Påsk på konst
DESCRIPTION:Välkommen att fira påsken hos oss på Konsthotellet\, där vi bjuder in till en härlig Påsk Sharing\n– En smakupplevelse som kombinerar traditionella smaker med moderna inslag. Njut av en festlig måltid i en inspirerande miljö där konst och gastronomi möts i perfekt harmoni. \nPåsk Sharing-meny\nFörrätt– Ägg- och ramslökssill– Inlagd sill med enbär\, fänkål och gin\, serverad med gula betor– Matjessill med tillbehör: gräslök\, rödlök\, gräddfil och kokt potatis– Fylld ägghalva med räkröra och rom\, vackert serverad i ett fågelbo– Klassisk gubbröra med fröknäcke– Pepparrot- och rödbetsgravad lax\, serverad med dill- och pepparrotscrème \nVarmrätt– Lammstek med vitlök och rosmarin– Krämig potatisgratäng– Mustig rödvinssås– Picklade polkabetor och friterade ramslöksörter \nDessert– Chokladägg fyllda med hallonmousse\, knäckflarn och krisp\, serverade med färska bär– Mini-prinsesstårta med gul marsipan eller sockerpasta– Citronparfait toppad med italiensk maräng \nLåt oss skapa en oförglömlig påskupplevelse tillsammans. B\noka ert bord och njut av en festlig måltid i en stämningsfull miljö. \n\nPris: 545 kr\nTid: 17.00- 22.00 \nBoka er kväll genom att kontakta oss på 0511 31 00 00 eller mejla info.konst@julahotell.se. \n\nVälkommen att fira påsken med oss på Konsthotellet!
URL:https://skarakonsthotell.se/events/pask-pa-konst/
LOCATION:Skara Konsthotell\, Vilangatan 4\, Skara\, 532 37
CATEGORIES:På gång
ATTACH;FMTTYPE=image/png:https://skarakonsthotell.se/wp-content/uploads/2025/02/romantikpaket-2.png
ORGANIZER;CN="Skara Konsthotell":MAILTO:info.konst@julahotell.se
END:VEVENT
BEGIN:VEVENT
DTSTART;VALUE=DATE:20250405
DTEND;VALUE=DATE:20250406
DTSTAMP:20260424T230230
CREATED:20250225T172718Z
LAST-MODIFIED:20250303T092731Z
UID:10000421-1743811200-1743897599@skarakonsthotell.se
SUMMARY:Spansk afton
DESCRIPTION:Upplev en smakrik och stämningsfull kväll på Skara Konsthotell.\nDen 5 april bjuder vi in till en afton fylld med autentiska smaker\, härliga viner och livlig musik – en resa till Spanien utan att lämna Skara. \nDatum: 5 april \nSharing (förrätt)\nOstar\, salami\, skinka\, oliver Bruschetta och Gazpacho \nSharing (varmrätt)\nPaella\, friterad bläckfisk\, grillad grön paprika\, salsa verde\, citron aioli \nSharing (dessert)\nCrema catalana\nCurros med äppelcrem\, nötcrem och glass \n429kr \nBoka er kväll genom att kontakta oss på 0511 31 00 00 eller mejla info.konst@julahotell.se.
URL:https://skarakonsthotell.se/events/spanskafton/
LOCATION:Skara Konsthotell\, Vilangatan 4\, Skara\, 532 37
CATEGORIES:På gång
ATTACH;FMTTYPE=image/png:https://skarakonsthotell.se/wp-content/uploads/2025/02/romantikpaket-1.png
ORGANIZER;CN="Skara Konsthotell":MAILTO:info.konst@julahotell.se
END:VEVENT
BEGIN:VEVENT
DTSTART;TZID=Europe/Stockholm:20250308T120000
DTEND;TZID=Europe/Stockholm:20250308T233000
DTSTAMP:20260424T230230
CREATED:20250303T091844Z
LAST-MODIFIED:20250303T091844Z
UID:10000422-1741435200-1741476600@skarakonsthotell.se
SUMMARY:Kvinnodagen 8 mars
DESCRIPTION:Kom och fira kvinnodagen hos oss den 8 mars! ♡ \nErbjudande:\n♥ De fem första tjejerna som kommer på lunch mellan 12.00-15.00 får varsitt presentkort på frukostbuffé för två personer.\n♥ På kvällen får alla tjejer gratis dessert när ni äter hos oss.\n♥ Ett glas mousserande för 79kr till alla tjejer! \nVarmt välkomna! \n  \n 
URL:https://skarakonsthotell.se/events/kvinnodagen-8-mars/
LOCATION:Skara Konsthotell\, Vilangatan 4\, Skara\, 532 37
CATEGORIES:På gång
ATTACH;FMTTYPE=image/png:https://skarakonsthotell.se/wp-content/uploads/2025/03/romantikpaket.png
ORGANIZER;CN="Skara Konsthotell":MAILTO:info.konst@julahotell.se
END:VEVENT
BEGIN:VEVENT
DTSTART;VALUE=DATE:20250228
DTEND;VALUE=DATE:20250301
DTSTAMP:20260424T230230
CREATED:20250123T125409Z
LAST-MODIFIED:20250213T094630Z
UID:10000419-1740700800-1740787199@skarakonsthotell.se
SUMMARY:Ginprovning
DESCRIPTION:För alla ginälskare där ute- välkommen till en smakupplevelse på vårt hotell! Vår ginprovning tar dig med på en resa genom olika smaker och dofter av gin\, ledd av Robin en experter från Triplus Vin.\nUpplev en palett av smaker och upptäck nya favoriter. \nProvningen börjar klockan 18:00. Efter provningen har du möjlighet att njuta av en middag. \nTid: 18.00\nDatum: 28 februari\nPris: 395kr \nSjälvklart finns det alkoholfria alternativ \nBoka er kväll genom att kontakta oss på 0511 31 00 00 eller mejla info.konst@julahotell.se.\nVarmt välkomna till en kväll hos oss!
URL:https://skarakonsthotell.se/events/ginprovning/
LOCATION:Skara Konsthotell\, Vilangatan 4\, Skara\, 532 37
CATEGORIES:På gång
ATTACH;FMTTYPE=image/png:https://skarakonsthotell.se/wp-content/uploads/2025/01/romantikpaket-17.png
ORGANIZER;CN="Skara Konsthotell":MAILTO:info.konst@julahotell.se
END:VEVENT
BEGIN:VEVENT
DTSTART;VALUE=DATE:20241125
DTEND;VALUE=DATE:20241202
DTSTAMP:20260424T230230
CREATED:20241114T095848Z
LAST-MODIFIED:20241125T082908Z
UID:10000416-1732492800-1733097599@skarakonsthotell.se
SUMMARY:Black Week
DESCRIPTION:Ta del av vårt erbjudande: 20% rabatt på vårt populära julbord och 50% på Zornpaketet! \nBoka dit paket HÄR \nUppge koden: BLACK50 \nBoka dit julbord genom att ringa: +46 (0)511 – 31 00 00  eller info.konst@julahotell.se\nUppge koden:BLACK20 \nPerfekt för en lyxig weekend eller en mysig middag med extra guldkant. \n(Paketen gäller för bokningar under jan-mars 2025\, gäller när man bokar under v.48\nErbjudandet gäller för utvalda datum och är baserat på tillgänglighet.)
URL:https://skarakonsthotell.se/events/black-week/
LOCATION:Skara Konsthotell\, Vilangatan 4\, Skara\, 532 37
ATTACH;FMTTYPE=image/png:https://skarakonsthotell.se/wp-content/uploads/2024/11/black-week-konst.png
ORGANIZER;CN="Skara Konsthotell":MAILTO:info.konst@julahotell.se
END:VEVENT
BEGIN:VEVENT
DTSTART;VALUE=DATE:20230630
DTEND;VALUE=DATE:20230701
DTSTAMP:20260424T230230
CREATED:20230503T085605Z
LAST-MODIFIED:20230530T051652Z
UID:10000355-1688083200-1688169599@skarakonsthotell.se
SUMMARY:Cocktails & BBQ
DESCRIPTION:Välkommen till en kväll av sommar\, cocktails och en läcker BBQ-upplevelse på Skara Konsthotell! \nVi har skapat en speciell kombination av läckra cocktails och en utsökt BBQ-meny som kommer att tillfredsställa dina smaklökar på bästa sätt. Vi har noggrant valt ut de finaste råvarorna och tillagat dem till perfektion på grillen. Smaka på de saftiga kötträtterna och färska grönsakerna som kommer att komplettera din BBQ-upplevelse. \nSå kom och njut av en underbar sommarkväll hos oss på Skara Konsthotell. Vi är redo att välkomna dig till en kväll av avkoppling\, goda smaker och trevligt sällskap. Ta med dina vänner eller din familj och upplev det bästa som sommaren har att erbjuda. \nSjälvklart har vi även tänkt på de som föredrar alkoholfria alternativ denna kväll. \nVi ser fram emot att ge dig en minnesvärd kväll av cocktails\, BBQ och sommarvibbar på Skara Konsthotell. Välkommen till oss! \n\nBokas på tel. 0511-31 00 00 eller mail info.konst@julahotell.se.
URL:https://skarakonsthotell.se/events/cocktails-bbq/
LOCATION:Skara Konsthotell\, Vilangatan 4\, Skara\, 532 37
CATEGORIES:På gång
ATTACH;FMTTYPE=image/png:https://skarakonsthotell.se/wp-content/uploads/2023/05/coctails-hemsida-konst.png
ORGANIZER;CN="Skara Konsthotell":MAILTO:info.konst@julahotell.se
END:VEVENT
BEGIN:VEVENT
DTSTART;VALUE=DATE:20230606
DTEND;VALUE=DATE:20230607
DTSTAMP:20260424T230230
CREATED:20230503T083833Z
LAST-MODIFIED:20230530T051651Z
UID:10000353-1686009600-1686095999@skarakonsthotell.se
SUMMARY:Svenska Nationaldagen
DESCRIPTION:Vår specialkomponerade nationaldagsmeny är fylld med läckerheter som hyllar det bästa av svensk matkultur. Upplev en smakresa genom välsmakande rätter\, tillagade med omsorg och serverade i vår unika och konstnärliga miljö. Ta del av firandet på Skara Konsthotell den 6 juni! \nBoka ditt bord redan nu för en oförglömlig nationaldagsupplevelse på: 0511 31 00 00 eller skicka ett mail till info.konst@julahotell. \nMeny: \nStekt kummel med gubbröra samt citron-och dillpotatis \nLångbakad ryggbiff med ljummen potatissallad med ramslök och vårens primörer samt örtcrème \nVästerbottensostpaj med smörstekt sparris och gräslökscrème samt bakade cocktailtomater \nInkl. sallad\, bröd\, smör\, kaffe & kaka \n  \nNjut av vår meny för 165 kronor per person mellan klockan 12.00-15.00
URL:https://skarakonsthotell.se/events/svenska-nationaldagen/
LOCATION:Skara Konsthotell\, Vilangatan 4\, Skara\, 532 37
CATEGORIES:På gång
ATTACH;FMTTYPE=image/jpeg:https://skarakonsthotell.se/wp-content/uploads/2021/11/6c1a1121-1920x1080-paket-toppbild.jpg
ORGANIZER;CN="Skara Konsthotell":MAILTO:info.konst@julahotell.se
END:VEVENT
BEGIN:VEVENT
DTSTART;VALUE=DATE:20230528
DTEND;VALUE=DATE:20230529
DTSTAMP:20260424T230230
CREATED:20230301T132647Z
LAST-MODIFIED:20230530T051650Z
UID:10000341-1685232000-1685318399@skarakonsthotell.se
SUMMARY:Mors Dag
DESCRIPTION:Vi kommer ha konstnären ”Kueen” Karoline Lenhult hos oss som kommer ställa ut sina vackra och unika konstverk i vår konsthall! Mellan 11.00-16.00 har ni möjlighet att se på hennes konst och klockan 11.00 och 15.00 kan ni lyssna på hennes föreläsning! \nPå hotellet denna dag har vi ett perfekt paket-erbjudande till er! \nI paketet ingår:  \nBubbel och snittar i vår konsthall\, samtidigt som ni avnjuter en konstvisning av Karonline Lenhult! Sedan går ni vidare och avnjuter en utav våra varmrätter i hotellets restaurang. Detta erbjudande kostar 349 kronor per person! (självklart finns det även alkoholfria alternativ för de som önskar). \nMeny: \nFlundraroulad med vit sparris\, ramslökshollandaise och gravad salma lax \neller \nÖrtbakad fläskfilé serveras med skysås med soltorkade tomater och pommes Anna \nDenna dag finns det även möjlighet att köpa till desserter från vår á la carte meny! \n  \nDetta vill du inte missa!
URL:https://skarakonsthotell.se/events/mors-dag/
LOCATION:Skara Konsthotell\, Vilangatan 4\, Skara\, 532 37
CATEGORIES:På gång
ATTACH;FMTTYPE=image/jpeg:https://skarakonsthotell.se/wp-content/uploads/2023/03/karoline-lenhult.jpg
ORGANIZER;CN="Skara Konsthotell":MAILTO:info.konst@julahotell.se
END:VEVENT
BEGIN:VEVENT
DTSTART;VALUE=DATE:20230526
DTEND;VALUE=DATE:20230527
DTSTAMP:20260424T230230
CREATED:20230301T132347Z
LAST-MODIFIED:20230530T051650Z
UID:10000339-1685059200-1685145599@skarakonsthotell.se
SUMMARY:After Work- Pink
DESCRIPTION:Passande nog till temat ”rosa” finns det möjlighet för dig att njuta av ett glas rosé på hotellet\, eller alkoholfria alternativ för dig som önskar! Njut av god mat\, härliga drinkar och DJ på vår uteservering. Perfekt som förfest-tillfälle för er som även ska till ABBA-dinnershow på Stadt denna kväll! Vi börjar 17.00! \n  \nMeny: \nVodkapasta \nKrämig Rigatoni pasta med tomat\, basilika och vodka\, toppad med parmesan \n  \nRisotto frutti di mare / alt. Risotto al funghi \nHärlig skaldjursrisotto med räkor\, kräftor och musslor toppad med ruccola / alt. Vegetarisk svamprisotto \n  \nPizza ”Konst” \nVåran pizza med peperoni\, cocktailtomater och västerbottensost \n  \nParmesankyckling \nSaftig parmesankyckling serveras med ljummen tomat-och spenatsallad \n  \nOst-och charkbricka \nLokala ostar och gott chark med sina tillbehör \n  \n185:- per rätt \nFör att säkra din plats kontaktar du oss på 0511 31 00 00 eller skicka ett mail till info.konst@julahotell. Hoppas vi ses! \n(Med reservation för ändringar)
URL:https://skarakonsthotell.se/events/roseprovning-pink-aw/
LOCATION:Skara Konsthotell\, Vilangatan 4\, Skara\, 532 37
CATEGORIES:På gång
ATTACH;FMTTYPE=image/png:https://skarakonsthotell.se/wp-content/uploads/2023/03/rose-hemsida.png
ORGANIZER;CN="Skara Konsthotell":MAILTO:info.konst@julahotell.se
END:VEVENT
BEGIN:VEVENT
DTSTART;VALUE=DATE:20230520
DTEND;VALUE=DATE:20230521
DTSTAMP:20260424T230230
CREATED:20230510T083825Z
LAST-MODIFIED:20230530T051652Z
UID:10000356-1684540800-1684627199@skarakonsthotell.se
SUMMARY:Vilanträffen
DESCRIPTION:Klockan 18.00-22.00 är ni välkomna till oss på ”bilträff”!\nVi hoppas på härligt väder i solen och en hel baksida fyllt med förväntansfulla åskådare. \nErbjudande på Skara Konsthotell denna kväll: \n\nAlla rätter på vår Bistromeny för 185kr/rätt\nSpecialpriser i baren om du uppger ”Vilanträffen” (självklart finns det även alkoholfria alternativ)\n\nVi har även godis\, glass och läsk inne i receptionen för de som önskar. På hotellet kommer vi även krona ”Konsthotellets awards”… \nDetta vill ni inte missa!
URL:https://skarakonsthotell.se/events/vilantraffen/
LOCATION:Skara Konsthotell\, Vilangatan 4\, Skara\, 532 37
CATEGORIES:På gång
ATTACH;FMTTYPE=image/png:https://skarakonsthotell.se/wp-content/uploads/2023/05/vilan-traff.png
ORGANIZER;CN="Skara Konsthotell":MAILTO:info.konst@julahotell.se
END:VEVENT
BEGIN:VEVENT
DTSTART;VALUE=DATE:20230430
DTEND;VALUE=DATE:20230501
DTSTAMP:20260424T230230
CREATED:20230301T131537Z
LAST-MODIFIED:20230530T051649Z
UID:10000338-1682812800-1682899199@skarakonsthotell.se
SUMMARY:Valborgsmässoafton på hotellet
DESCRIPTION:Varmt välkomna till oss för att njuta av vår härliga Valborg-lunch! Välj mellan de tre alternativen nedan och lyxa även till det denna dag genom att njuta av vår efterrätt som serveras på våningsfat! \n  \nValborgsmeny: \nGrillat tender strip på hjort (Bogfilé) med rödvinssky samt tomat-och citrussalsa och rostade rotfrukter \nStekt röding med Moscato d`Asti sås\, crème ninon och kanarisk potatis \nRödbetsbiffar med fetaostcrème samt bulgur-och grönsakssallad \nEfterrätt – våningsfat med smått och gott \n  \nLunchen kostar 165kr \nDessertfatet en variation av små desserter kostar 95kr \nServeras mellan 12:00- 15:00.
URL:https://skarakonsthotell.se/events/valborgsmassoafton-pa-hotellet/
LOCATION:Skara Konsthotell\, Vilangatan 4\, Skara\, 532 37
CATEGORIES:På gång
ATTACH;FMTTYPE=image/jpeg:https://skarakonsthotell.se/wp-content/uploads/2022/06/kopia-av-cava-och-rosekvall.jpg
ORGANIZER;CN="Skara Konsthotell":MAILTO:info.konst@julahotell.se
END:VEVENT
BEGIN:VEVENT
DTSTART;VALUE=DATE:20230428
DTEND;VALUE=DATE:20230429
DTSTAMP:20260424T230230
CREATED:20230301T131437Z
LAST-MODIFIED:20230530T051649Z
UID:10000337-1682640000-1682726399@skarakonsthotell.se
SUMMARY:After Work Med Quiz!
DESCRIPTION:Varmt välkomna till hotellet den 28/4 för festlig stämning på hotellet!\nVi höjer musiken\, serverar god mat\, härliga drinkar och har quiz med Peter Inhammar! För de som önskar serveras det även alkoholfria alternativ. Restaurangen öppnar klockan 17.00 och Quizen med Peter börjar klockan 19.00. \nUnder denna kvällen serverar vi dessa rätter i restaurangen: \nVodkapasta \n-Krämig Rigatoni pasta med tomat\, basilika och vodka\, toppad med parmesan \n  \nRisotto frutti di mare / alt. Risotto al funghi \n-Härlig skaldjursrisotto med räkor\, kräftor och musslor toppad med ruccola / alt. Vegetarisk svamprisotto \n  \nPizza ”Konst” \n-Våran pizza med peperoni\, cocktailtomater och västerbottensost \n  \nParmesankyckling \n-Saftig parmesankyckling serveras med ljummen tomat-och spenatsallad \n  \nOst-och charkbricka \n-lokala ostar och gott chark med sina tillbehör \n  \n185:- per rätt \n  \nVarmt välkomna!
URL:https://skarakonsthotell.se/events/after-work-8/
LOCATION:Skara Konsthotell\, Vilangatan 4\, Skara\, 532 37
CATEGORIES:På gång
ATTACH;FMTTYPE=image/jpeg:https://skarakonsthotell.se/wp-content/uploads/2022/06/musik.jpg
ORGANIZER;CN="Skara Konsthotell":MAILTO:info.konst@julahotell.se
END:VEVENT
BEGIN:VEVENT
DTSTART;VALUE=DATE:20230416
DTEND;VALUE=DATE:20230417
DTSTAMP:20260424T230230
CREATED:20230405T131458Z
LAST-MODIFIED:20230530T051650Z
UID:10000344-1681603200-1681689599@skarakonsthotell.se
SUMMARY:Konstvisning med Peter Nordin
DESCRIPTION:Den 16 april klockan 13.00 är ni varmt välkomna in till vårt hotell för konstvisning! Färdas tillbaka genom tid och historia för att lära dig mer eller fördjupa dina kunskaper kring några av Sveriges största konstnärer! Ta dig tid att betrakta och beundra varje unik originalmålning. \nVår konst fortsätter även in i matsalen! För dig som vill njuta av god mat och dryck är vår restaurang öppen från klockan 12-15. Slå dig ner i en lugn och harmonisk miljö samtidigt som du omfamnas\, även här\, av vackra konstverk!\n⠀⠀⠀⠀⠀⠀⠀\nFör fråga eller reservation kontakta oss till 0511 31 00 00 eller skicka ett mail till info.konst@julahotell. Detta vill ni inte missa!
URL:https://skarakonsthotell.se/events/konstvisning-med-peter-nordin/
LOCATION:Skara Konsthotell\, Vilangatan 4\, Skara\, 532 37
CATEGORIES:På gång
ATTACH;FMTTYPE=image/jpeg:https://skarakonsthotell.se/wp-content/uploads/2021/11/6c1a2009-1920x1080-1.jpg
ORGANIZER;CN="Skara Konsthotell":MAILTO:info.konst@julahotell.se
END:VEVENT
BEGIN:VEVENT
DTSTART;VALUE=DATE:20230406
DTEND;VALUE=DATE:20230411
DTSTAMP:20260424T230230
CREATED:20230301T130717Z
LAST-MODIFIED:20230530T051649Z
UID:10000336-1680739200-1681171199@skarakonsthotell.se
SUMMARY:Påsk på Skara Konsthotell
DESCRIPTION:Påsktider i vår restaurang!\n⠀⠀⠀⠀⠀⠀⠀\n6/4 Skärtorsdagen \nPåsk-inspirerad lunch\, 140 kr \nKvälls-påsk-erbjudande 2-rätters\, 420 kr \nBistromeny\n⠀⠀⠀⠀⠀⠀⠀\n7/4 Långfredagen \nPåsk-inspirerad helglunch\, 165 kr \nKväll- Påsk-erbjudande 2-rätters\, 420 kr \nBistromeny\n⠀⠀⠀⠀⠀⠀⠀\n8/4 Påskafton \nPåsk-inspirerad helg-lunch\, 165 kr \nKväll- Påsk-erbjudande 2-rätters\, 420 kr \nBistromeny\n⠀⠀⠀⠀⠀⠀⠀\n9/4 Påskdagen \nPåsk-inspirerad helg-lunch\, 165 kr \nKväll: Ej öppet\n⠀⠀⠀⠀⠀⠀⠀\n10/4 Annandag påsk \nFrukostbuffé 07.00-12.00 frukostbuffé\, 125 kronor \nLunch och kväll: Ej öppet\n⠀⠀⠀⠀⠀⠀⠀\n(Påskveckan i restaurangen (17-21 kvällstid)
URL:https://skarakonsthotell.se/events/paskvecka-pa-hotellet/
LOCATION:Skara Konsthotell\, Vilangatan 4\, Skara\, 532 37
CATEGORIES:På gång
ATTACH;FMTTYPE=image/jpeg:https://skarakonsthotell.se/wp-content/uploads/2021/10/restaurangen-img-0267-1920x1080-1.jpg
ORGANIZER;CN="Skara Konsthotell":MAILTO:info.konst@julahotell.se
END:VEVENT
BEGIN:VEVENT
DTSTART;VALUE=DATE:20230327
DTEND;VALUE=DATE:20230402
DTSTAMP:20260424T230230
CREATED:20230116T122230Z
LAST-MODIFIED:20230530T051648Z
UID:10000334-1679875200-1680393599@skarakonsthotell.se
SUMMARY:Restaurangveckan på Skara Konsthotell
DESCRIPTION:Äntligen drar restaurangveckan snart i gång i Skara. Temat för veckan kommer vara ”lokalt” och ”hållbart”. Som gäst kommer du bli serverad en 2-rättersmeny av svenska och lokalproducerade råvaror. Det kommer även att finnas rekommenderad dryck från våra lokala ölproducenter (självklart finns det även alkoholfria alternativ). Menyn kommer att serveras från den 27/3 till den 1/4 och kostar 250 kronor per person. \n\nMeny \nFörrätt \nOst-och morotssoppa med smördegssnurra \nVarmrätt \nHelstekt kalkonbröst med äppelcidersås\, honung-och timjanbakade betor serveras med potatisstomp smaksatt med Sivans ostar \n(Ostar från Sivans ost i Vara\, kalkonbröst från Adelsåsen\, äppelcider från Bramleys i Lidköping\, honung från Varola och potatis från Viglunda) \n  \n\nFör att boka- hör av dig till oss på 0511 31 00 00 eller skicka ett mail till info.konst@julahotell för frågor eller bokningar.
URL:https://skarakonsthotell.se/events/restaurangveckan-pa-skara-konsthotell/
LOCATION:Skara Konsthotell\, Vilangatan 4\, Skara\, 532 37
CATEGORIES:På gång
ATTACH;FMTTYPE=image/jpeg:https://skarakonsthotell.se/wp-content/uploads/2021/11/6c1a1121-1920x1080-paket-toppbild.jpg
ORGANIZER;CN="Skara Konsthotell":MAILTO:info.konst@julahotell.se
END:VEVENT
BEGIN:VEVENT
DTSTART;VALUE=DATE:20230324
DTEND;VALUE=DATE:20230325
DTSTAMP:20260424T230230
CREATED:20230116T122048Z
LAST-MODIFIED:20230530T051648Z
UID:10000333-1679616000-1679702399@skarakonsthotell.se
SUMMARY:Ost & Vinprovning på hotellet
DESCRIPTION:Kom till hotellet den 24 mars klockan 18.00 för en ost och vinprovning! Fördjupa dina kunskaper och njut av 4 glas vin & 4 ostar från Sivans Osthandel. Självklart finns det även alkoholfria alternativ. Priset är 450 kronor per person. För att boka och säkra din plats kontakta oss på 0511 31 00 00. Varmt välkommen!
URL:https://skarakonsthotell.se/events/ost-vinprovning-pa-hotellet/
LOCATION:Skara Konsthotell\, Vilangatan 4\, Skara\, 532 37
CATEGORIES:På gång
ATTACH;FMTTYPE=image/jpeg:https://skarakonsthotell.se/wp-content/uploads/2021/10/toppbild-6c1a1540-1920x1080-1.jpg
ORGANIZER;CN="Skara Konsthotell":MAILTO:info.konst@julahotell.se
END:VEVENT
BEGIN:VEVENT
DTSTART;VALUE=DATE:20230319
DTEND;VALUE=DATE:20230320
DTSTAMP:20260424T230230
CREATED:20230302T094956Z
LAST-MODIFIED:20230530T051650Z
UID:10000342-1679184000-1679270399@skarakonsthotell.se
SUMMARY:Stockholms Auktionsverk Värderingsdag!
DESCRIPTION:Söndag den 19 mars är ni varmt välkomna till hotellet för att gratis värdera era ägodelar!\n⠀⠀⠀⠀⠀⠀⠀\nPå plats med specialisterna Erik Bilén\, Victoria Svederberg\, Joakim Geiger och Sara Berglund. Inlämningen och värdering för vårens auktion börjar klockan 11.00 och pågår till 14.00. Specialisterna efterfrågar; konst\, antikviteter\, design\, keramik\, silver\, glas\, klockor och smycken.\n⠀⠀⠀⠀⠀⠀⠀\nUnder denna dagen serveras det även söndaglunch i vår restaurang mellan 12.00-15.00.\n⠀⠀⠀⠀⠀⠀⠀\nVarmt välkomna!
URL:https://skarakonsthotell.se/events/stockholms-auktionsverk-varderingsdag-2/
LOCATION:Skara Konsthotell\, Vilangatan 4\, Skara\, 532 37
CATEGORIES:På gång
ATTACH;FMTTYPE=image/png:https://skarakonsthotell.se/wp-content/uploads/2023/03/ny-pylon-och-hemsida-stockholm.png
ORGANIZER;CN="Skara Konsthotell":MAILTO:info.konst@julahotell.se
END:VEVENT
BEGIN:VEVENT
DTSTART;VALUE=DATE:20230311
DTEND;VALUE=DATE:20230312
DTSTAMP:20260424T230230
CREATED:20230116T121312Z
LAST-MODIFIED:20230530T051648Z
UID:10000331-1678492800-1678579199@skarakonsthotell.se
SUMMARY:Melodifestival-final på Skara Konsthotell
DESCRIPTION:På lördag den 11 mars är ni varmt välkomna för att se finalen av årets melodifestival! \nSugna på något gott till? I restaurangen denna kvällen har vi ett perfekt erbjudande! \nNjut av vår krämiga kalvfilépasta och ett glas vin eller öl- för 249 kronor\, från 17.00-22.00! För dig som är sugen på något gott i baren har vi denna kvällen serverar vi bland annat vår ”mello-drink” för 135 kronor. Självklart serverar vi även alkoholfria alternativ hela kvällen för dig som önskar! \nVälkomna!
URL:https://skarakonsthotell.se/events/mello-final/
LOCATION:Skara Konsthotell\, Vilangatan 4\, Skara\, 532 37
CATEGORIES:På gång
ATTACH;FMTTYPE=image/jpeg:https://skarakonsthotell.se/wp-content/uploads/2023/01/mello-1-scaled.jpg
ORGANIZER;CN="Skara Konsthotell":MAILTO:info.konst@julahotell.se
END:VEVENT
BEGIN:VEVENT
DTSTART;VALUE=DATE:20230308
DTEND;VALUE=DATE:20230309
DTSTAMP:20260424T230230
CREATED:20230307T065131Z
LAST-MODIFIED:20230530T051650Z
UID:10000343-1678233600-1678319999@skarakonsthotell.se
SUMMARY:Internationella kvinnodagen på hotellet!
DESCRIPTION:Onsdag den 8 mars på den internationella kvinnodagen har vi ett särskilt erbjudande hela dagen för alla kvinnor och tjejer! Njut av en räksandwich och ett glas mousserande vin för 185 kronor. Självklart finns det även alkoholfritt alternativ för den som önskar! \nVarmt välkomna!
URL:https://skarakonsthotell.se/events/internationella-kvinnodagen-pa-hotellet/
LOCATION:Skara Konsthotell\, Vilangatan 4\, Skara\, 532 37
CATEGORIES:På gång
ATTACH;FMTTYPE=image/jpeg:https://skarakonsthotell.se/wp-content/uploads/2022/06/kopia-av-cava-och-rosekvall.jpg
ORGANIZER;CN="Skara Konsthotell":MAILTO:info.konst@julahotell.se
END:VEVENT
END:VCALENDAR