BEGIN:VCALENDAR
VERSION:2.0
PRODID:-//Skara Konsthotell - ECPv6.15.20//NONSGML v1.0//EN
CALSCALE:GREGORIAN
METHOD:PUBLISH
X-ORIGINAL-URL:https://skarakonsthotell.se
X-WR-CALDESC:Händelser för Skara Konsthotell
REFRESH-INTERVAL;VALUE=DURATION:PT1H
X-Robots-Tag:noindex
X-PUBLISHED-TTL:PT1H
BEGIN:VTIMEZONE
TZID:Europe/Stockholm
BEGIN:DAYLIGHT
TZOFFSETFROM:+0100
TZOFFSETTO:+0200
TZNAME:CEST
DTSTART:20220327T010000
END:DAYLIGHT
BEGIN:STANDARD
TZOFFSETFROM:+0200
TZOFFSETTO:+0100
TZNAME:CET
DTSTART:20221030T010000
END:STANDARD
BEGIN:DAYLIGHT
TZOFFSETFROM:+0100
TZOFFSETTO:+0200
TZNAME:CEST
DTSTART:20230326T010000
END:DAYLIGHT
BEGIN:STANDARD
TZOFFSETFROM:+0200
TZOFFSETTO:+0100
TZNAME:CET
DTSTART:20231029T010000
END:STANDARD
BEGIN:DAYLIGHT
TZOFFSETFROM:+0100
TZOFFSETTO:+0200
TZNAME:CEST
DTSTART:20240331T010000
END:DAYLIGHT
BEGIN:STANDARD
TZOFFSETFROM:+0200
TZOFFSETTO:+0100
TZNAME:CET
DTSTART:20241027T010000
END:STANDARD
END:VTIMEZONE
BEGIN:VEVENT
DTSTART;TZID=Europe/Stockholm:20230513T160000
DTEND;TZID=Europe/Stockholm:20230513T180000
DTSTAMP:20260425T055933
CREATED:20230426T125505Z
LAST-MODIFIED:20230530T051651Z
UID:10000351-1683993600-1684000800@skarakonsthotell.se
SUMMARY:Skara Skolscen slutproduktion- föreställning
DESCRIPTION:Varmt välkomna till hotellet och förläning din upplevelse i samband med föreställningarna på Skara Skolscen \n\nRestaurangerbjudande\nMeny: \nHelstekt fläksfilé med vitlökssky serveras med säsongens grönsaker och örtslungad potatis \nEller \nKrämig Rigatoni- pasta med tomat\, basilika och vodka\, toppad med färska räkor och parmesan.\n(Vegetarisk variant finns). \n1 rätt 195 kr \n\nHotellerbjudande\nI paketet ingår övernattning\, en rätt i restaurangen och frukostbuffé.\nPris: 2 000 kr/dubbelrum 2-pers \n\nKöp biljett här
URL:https://skarakonsthotell.se/events/skara-skolscen-slutproduktion-forestallning/2023-05-13/
LOCATION:Skara Skolscen\, Peter Hernqvistgatan 10\, Skara\, 53230\, Sverige
CATEGORIES:På gång
ATTACH;FMTTYPE=image/jpeg:https://skarakonsthotell.se/wp-content/uploads/2022/06/musik.jpg
ORGANIZER;CN="Skara Konsthotell":MAILTO:info.konst@julahotell.se
END:VEVENT
BEGIN:VEVENT
DTSTART;TZID=Europe/Stockholm:20230512T190000
DTEND;TZID=Europe/Stockholm:20230512T210000
DTSTAMP:20260425T055933
CREATED:20230426T125505Z
LAST-MODIFIED:20230530T051651Z
UID:10000350-1683918000-1683925200@skarakonsthotell.se
SUMMARY:Skara Skolscen slutproduktion- föreställning
DESCRIPTION:Varmt välkomna till hotellet och förläning din upplevelse i samband med föreställningarna på Skara Skolscen \n\nRestaurangerbjudande\nMeny: \nHelstekt fläksfilé med vitlökssky serveras med säsongens grönsaker och örtslungad potatis \nEller \nKrämig Rigatoni- pasta med tomat\, basilika och vodka\, toppad med färska räkor och parmesan.\n(Vegetarisk variant finns). \n1 rätt 195 kr \n\nHotellerbjudande\nI paketet ingår övernattning\, en rätt i restaurangen och frukostbuffé.\nPris: 2 000 kr/dubbelrum 2-pers \n\nKöp biljett här
URL:https://skarakonsthotell.se/events/skara-skolscen-slutproduktion-forestallning/2023-05-12/
LOCATION:Skara Skolscen\, Peter Hernqvistgatan 10\, Skara\, 53230\, Sverige
CATEGORIES:På gång
ATTACH;FMTTYPE=image/jpeg:https://skarakonsthotell.se/wp-content/uploads/2022/06/musik.jpg
ORGANIZER;CN="Skara Konsthotell":MAILTO:info.konst@julahotell.se
END:VEVENT
BEGIN:VEVENT
DTSTART;TZID=Europe/Stockholm:20230510T190000
DTEND;TZID=Europe/Stockholm:20230510T210000
DTSTAMP:20260425T055933
CREATED:20230426T125505Z
LAST-MODIFIED:20230530T051651Z
UID:10000349-1683745200-1683752400@skarakonsthotell.se
SUMMARY:Skara Skolscen slutproduktion- föreställning
DESCRIPTION:Varmt välkomna till hotellet och förläning din upplevelse i samband med föreställningarna på Skara Skolscen \n\nRestaurangerbjudande\nMeny: \nHelstekt fläksfilé med vitlökssky serveras med säsongens grönsaker och örtslungad potatis \nEller \nKrämig Rigatoni- pasta med tomat\, basilika och vodka\, toppad med färska räkor och parmesan.\n(Vegetarisk variant finns). \n1 rätt 195 kr \n\nHotellerbjudande\nI paketet ingår övernattning\, en rätt i restaurangen och frukostbuffé.\nPris: 2 000 kr/dubbelrum 2-pers \n\nKöp biljett här
URL:https://skarakonsthotell.se/events/skara-skolscen-slutproduktion-forestallning/2023-05-10/
LOCATION:Skara Skolscen\, Peter Hernqvistgatan 10\, Skara\, 53230\, Sverige
CATEGORIES:På gång
ATTACH;FMTTYPE=image/jpeg:https://skarakonsthotell.se/wp-content/uploads/2022/06/musik.jpg
ORGANIZER;CN="Skara Konsthotell":MAILTO:info.konst@julahotell.se
END:VEVENT
BEGIN:VEVENT
DTSTART;TZID=Europe/Stockholm:20230506T160000
DTEND;TZID=Europe/Stockholm:20230506T180000
DTSTAMP:20260425T055933
CREATED:20230426T125505Z
LAST-MODIFIED:20230530T051651Z
UID:10000348-1683388800-1683396000@skarakonsthotell.se
SUMMARY:Skara Skolscen slutproduktion- föreställning
DESCRIPTION:Varmt välkomna till hotellet och förläning din upplevelse i samband med föreställningarna på Skara Skolscen \n\nRestaurangerbjudande\nMeny: \nHelstekt fläksfilé med vitlökssky serveras med säsongens grönsaker och örtslungad potatis \nEller \nKrämig Rigatoni- pasta med tomat\, basilika och vodka\, toppad med färska räkor och parmesan.\n(Vegetarisk variant finns). \n1 rätt 195 kr \n\nHotellerbjudande\nI paketet ingår övernattning\, en rätt i restaurangen och frukostbuffé.\nPris: 2 000 kr/dubbelrum 2-pers \n\nKöp biljett här
URL:https://skarakonsthotell.se/events/skara-skolscen-slutproduktion-forestallning/2023-05-06/
LOCATION:Skara Skolscen\, Peter Hernqvistgatan 10\, Skara\, 53230\, Sverige
CATEGORIES:På gång
ATTACH;FMTTYPE=image/jpeg:https://skarakonsthotell.se/wp-content/uploads/2022/06/musik.jpg
ORGANIZER;CN="Skara Konsthotell":MAILTO:info.konst@julahotell.se
END:VEVENT
BEGIN:VEVENT
DTSTART;TZID=Europe/Stockholm:20230505T190000
DTEND;TZID=Europe/Stockholm:20230505T210000
DTSTAMP:20260425T055933
CREATED:20230426T125505Z
LAST-MODIFIED:20230530T051651Z
UID:10000347-1683313200-1683320400@skarakonsthotell.se
SUMMARY:Skara Skolscen slutproduktion- föreställning
DESCRIPTION:Varmt välkomna till hotellet och förläning din upplevelse i samband med föreställningarna på Skara Skolscen \n\nRestaurangerbjudande\nMeny: \nHelstekt fläksfilé med vitlökssky serveras med säsongens grönsaker och örtslungad potatis \nEller \nKrämig Rigatoni- pasta med tomat\, basilika och vodka\, toppad med färska räkor och parmesan.\n(Vegetarisk variant finns). \n1 rätt 195 kr \n\nHotellerbjudande\nI paketet ingår övernattning\, en rätt i restaurangen och frukostbuffé.\nPris: 2 000 kr/dubbelrum 2-pers \n\nKöp biljett här
URL:https://skarakonsthotell.se/events/skara-skolscen-slutproduktion-forestallning/2023-05-05/
LOCATION:Skara Skolscen\, Peter Hernqvistgatan 10\, Skara\, 53230\, Sverige
CATEGORIES:På gång
ATTACH;FMTTYPE=image/jpeg:https://skarakonsthotell.se/wp-content/uploads/2022/06/musik.jpg
ORGANIZER;CN="Skara Konsthotell":MAILTO:info.konst@julahotell.se
END:VEVENT
BEGIN:VEVENT
DTSTART;TZID=Europe/Stockholm:20230503T190000
DTEND;TZID=Europe/Stockholm:20230503T210000
DTSTAMP:20260425T055933
CREATED:20230426T125505Z
LAST-MODIFIED:20230530T051651Z
UID:10000346-1683140400-1683147600@skarakonsthotell.se
SUMMARY:Skara Skolscen slutproduktion- föreställning
DESCRIPTION:Varmt välkomna till hotellet och förläning din upplevelse i samband med föreställningarna på Skara Skolscen \n\nRestaurangerbjudande\nMeny: \nHelstekt fläksfilé med vitlökssky serveras med säsongens grönsaker och örtslungad potatis \nEller \nKrämig Rigatoni- pasta med tomat\, basilika och vodka\, toppad med färska räkor och parmesan.\n(Vegetarisk variant finns). \n1 rätt 195 kr \n\nHotellerbjudande\nI paketet ingår övernattning\, en rätt i restaurangen och frukostbuffé.\nPris: 2 000 kr/dubbelrum 2-pers \n\nKöp biljett här
URL:https://skarakonsthotell.se/events/skara-skolscen-slutproduktion-forestallning/2023-05-03/
LOCATION:Skara Skolscen\, Peter Hernqvistgatan 10\, Skara\, 53230\, Sverige
CATEGORIES:På gång
ATTACH;FMTTYPE=image/jpeg:https://skarakonsthotell.se/wp-content/uploads/2022/06/musik.jpg
ORGANIZER;CN="Skara Konsthotell":MAILTO:info.konst@julahotell.se
END:VEVENT
BEGIN:VEVENT
DTSTART;TZID=Europe/Stockholm:20230429T160000
DTEND;TZID=Europe/Stockholm:20230429T180000
DTSTAMP:20260425T055933
CREATED:20230426T125505Z
LAST-MODIFIED:20230530T051651Z
UID:10000345-1682784000-1682791200@skarakonsthotell.se
SUMMARY:Skara Skolscen slutproduktion- föreställning
DESCRIPTION:Varmt välkomna till hotellet och förläning din upplevelse i samband med föreställningarna på Skara Skolscen \n\nRestaurangerbjudande\nMeny: \nHelstekt fläksfilé med vitlökssky serveras med säsongens grönsaker och örtslungad potatis \nEller \nKrämig Rigatoni- pasta med tomat\, basilika och vodka\, toppad med färska räkor och parmesan.\n(Vegetarisk variant finns). \n1 rätt 195 kr \n\nHotellerbjudande\nI paketet ingår övernattning\, en rätt i restaurangen och frukostbuffé.\nPris: 2 000 kr/dubbelrum 2-pers \n\nKöp biljett här
URL:https://skarakonsthotell.se/events/skara-skolscen-slutproduktion-forestallning/2023-04-29/
LOCATION:Skara Skolscen\, Peter Hernqvistgatan 10\, Skara\, 53230\, Sverige
CATEGORIES:På gång
ATTACH;FMTTYPE=image/jpeg:https://skarakonsthotell.se/wp-content/uploads/2022/06/musik.jpg
ORGANIZER;CN="Skara Konsthotell":MAILTO:info.konst@julahotell.se
END:VEVENT
END:VCALENDAR