BEGIN:VCALENDAR
VERSION:2.0
PRODID:-//Skara Konsthotell - ECPv6.15.20//NONSGML v1.0//EN
CALSCALE:GREGORIAN
METHOD:PUBLISH
X-WR-CALNAME:Skara Konsthotell
X-ORIGINAL-URL:https://skarakonsthotell.se
X-WR-CALDESC:Händelser för Skara Konsthotell
REFRESH-INTERVAL;VALUE=DURATION:PT1H
X-Robots-Tag:noindex
X-PUBLISHED-TTL:PT1H
BEGIN:VTIMEZONE
TZID:Europe/Stockholm
BEGIN:DAYLIGHT
TZOFFSETFROM:+0100
TZOFFSETTO:+0200
TZNAME:CEST
DTSTART:20250330T010000
END:DAYLIGHT
BEGIN:STANDARD
TZOFFSETFROM:+0200
TZOFFSETTO:+0100
TZNAME:CET
DTSTART:20251026T010000
END:STANDARD
BEGIN:DAYLIGHT
TZOFFSETFROM:+0100
TZOFFSETTO:+0200
TZNAME:CEST
DTSTART:20260329T010000
END:DAYLIGHT
BEGIN:STANDARD
TZOFFSETFROM:+0200
TZOFFSETTO:+0100
TZNAME:CET
DTSTART:20261025T010000
END:STANDARD
BEGIN:DAYLIGHT
TZOFFSETFROM:+0100
TZOFFSETTO:+0200
TZNAME:CEST
DTSTART:20270328T010000
END:DAYLIGHT
BEGIN:STANDARD
TZOFFSETFROM:+0200
TZOFFSETTO:+0100
TZNAME:CET
DTSTART:20271031T010000
END:STANDARD
END:VTIMEZONE
BEGIN:VEVENT
DTSTART;TZID=Europe/Stockholm:20260426T110000
DTEND;TZID=Europe/Stockholm:20260426T140000
DTSTAMP:20260424T181526
CREATED:20260123T104207Z
LAST-MODIFIED:20260128T093748Z
UID:10000478-1777201200-1777212000@skarakonsthotell.se
SUMMARY:The Brunch Exhibit
DESCRIPTION:Söndagsbrunch på Konsthotellet \nUnder tre utvalda söndagar i vår bjuder vi in till en stämningsfull brunch på Konsthotellets restaurang Galleri 1860. \nFörläng helgen med en avslappnad söndagsbrunch där du sitter omgiven av verk av Anders Zorn och Carl Larsson\, samtidigt som du njuter av noggrant utvalda rätter med klassiska brunchsmaker. \nBrunchen inkluderar ett urval av varma rätter som serveras från köket\, kompletterat med kalla favoriter från buffén. En perfekt kombination av njutning\, samtal och säsongens bästa råvaror – i en miljö som bjuder in till lugn och inspiration. \nPris:  395 kr per person\n3-12 år 195 kr per barn\n0-3 år äter gratis \nMeny \nVälj fritt bland alla varma rätter och komplettera med kalla favoriter från buffén \nLättare & nyttigare \nBurratasallad\nAçai bowl\nBagel med färskost & kallrökt lax \nÄggklassiker \nEggs Benedict\nOmelett\nÄgg & bacon \nLite matigare \nMini Bookmaker\nHalloumivåffla med smetana & stenbitsrom\nToast Madame \nSött & fräscht \nPannkakstårta (i plättformat)\nFruktsallad med vaniljsås\nSmoothiepops – tre olika smaker \nDryck \nMimosa\nBellini\nBloody Mary\nPaloma\nFrozen Strawberry Daiquiri\nLemonad\nSmoothie (efter kökets val)\nMilkshake (efter kökets val)\nFärskpressad apelsinjuice \nBoka: 0511 31 00 00 eller info.konst@julahotell. \nVarmt välkomna önskar Skara Konsthotell
URL:https://skarakonsthotell.se/events/the-brunch-exhibit/2026-04-26/
LOCATION:Skara Konsthotell\, Vilangatan 4\, Skara\, 532 37
CATEGORIES:På gång
ATTACH;FMTTYPE=image/png:https://skarakonsthotell.se/wp-content/uploads/2026/01/romantikpaket-2026-01-23t114303939.png
ORGANIZER;CN="Skara Konsthotell":MAILTO:info.konst@julahotell.se
END:VEVENT
END:VCALENDAR