BEGIN:VCALENDAR
VERSION:2.0
PRODID:-//Skara Konsthotell - ECPv6.15.20//NONSGML v1.0//EN
CALSCALE:GREGORIAN
METHOD:PUBLISH
X-WR-CALNAME:Skara Konsthotell
X-ORIGINAL-URL:https://skarakonsthotell.se
X-WR-CALDESC:Händelser för Skara Konsthotell
REFRESH-INTERVAL;VALUE=DURATION:PT1H
X-Robots-Tag:noindex
X-PUBLISHED-TTL:PT1H
BEGIN:VTIMEZONE
TZID:UTC
BEGIN:STANDARD
TZOFFSETFROM:+0000
TZOFFSETTO:+0000
TZNAME:UTC
DTSTART:20200101T000000
END:STANDARD
END:VTIMEZONE
BEGIN:VEVENT
DTSTART;TZID=UTC:20211006T180000
DTEND;TZID=UTC:20211006T180000
DTSTAMP:20260421T114308
CREATED:20210902T060504Z
LAST-MODIFIED:20230530T051639Z
UID:10000279-1633543200-1633543200@skarakonsthotell.se
SUMMARY:Premiär ny ART WALK
DESCRIPTION:Välkommen till premiären av vår fina konstrund på hotellet. Vi guidar dig genom våra tavlor och avslutar turen med en trerätters Zornmeny där du sitter omgiven av konstverk\, uppdukat i vår restaurang.
URL:https://skarakonsthotell.se/events/premiar-ny-art-walk/
CATEGORIES:På gång
ATTACH;FMTTYPE=image/jpeg:https://skarakonsthotell.se/wp-content/uploads/2021/09/konsthost-pa-hotellet-6c1a1610-1920x1080-2.jpg
END:VEVENT
BEGIN:VEVENT
DTSTART;TZID=UTC:20211001T180000
DTEND;TZID=UTC:20211001T220000
DTSTAMP:20260421T114308
CREATED:20211005T140727Z
LAST-MODIFIED:20230530T051639Z
UID:10000286-1633111200-1633125600@skarakonsthotell.se
SUMMARY:Efterfest ostmässan
DESCRIPTION:Italiensk buffé och livemusik med N´JOY.
URL:https://skarakonsthotell.se/events/efterfest-ostmassan-2/
CATEGORIES:På gång
ATTACH;FMTTYPE=image/jpeg:https://skarakonsthotell.se/wp-content/uploads/2021/07/design-hotel-bedroom.jpg
END:VEVENT
BEGIN:VEVENT
DTSTART;TZID=UTC:20211001T180000
DTEND;TZID=UTC:20211001T220000
DTSTAMP:20260421T114308
CREATED:20210914T123618Z
LAST-MODIFIED:20230530T051638Z
UID:10000280-1633111200-1633125600@skarakonsthotell.se
SUMMARY:Efterfest ostmässan
DESCRIPTION:Italiensk buffé och livemusik med Hugo och Elsa Ljungkvist.
URL:https://skarakonsthotell.se/events/efterfest-ostmassan/
CATEGORIES:På gång
ATTACH;FMTTYPE=image/jpeg:https://skarakonsthotell.se/wp-content/uploads/2021/07/design-hotel-bedroom.jpg
END:VEVENT
END:VCALENDAR